BEGIN:VCALENDAR
VERSION:2.0
PRODID:-//Finlandia University - ECPv6.0.10//NONSGML v1.0//EN
CALSCALE:GREGORIAN
METHOD:PUBLISH
X-WR-CALNAME:Finlandia University
X-ORIGINAL-URL:https://www.finlandia.edu
X-WR-CALDESC:Events for Finlandia University
REFRESH-INTERVAL;VALUE=DURATION:PT1H
X-Robots-Tag:noindex
X-PUBLISHED-TTL:PT1H
BEGIN:VTIMEZONE
TZID:America/Detroit
BEGIN:DAYLIGHT
TZOFFSETFROM:-0500
TZOFFSETTO:-0400
TZNAME:EDT
DTSTART:20230312T070000
END:DAYLIGHT
BEGIN:STANDARD
TZOFFSETFROM:-0400
TZOFFSETTO:-0500
TZNAME:EST
DTSTART:20231105T060000
END:STANDARD
END:VTIMEZONE
BEGIN:VEVENT
DTSTART;TZID=America/Detroit:20230613T150000
DTEND;TZID=America/Detroit:20230613T150000
DTSTAMP:20230523T114702
CREATED:20230511T164935Z
LAST-MODIFIED:20230511T164935Z
UID:77619-1686668400-1686668400@www.finlandia.edu
SUMMARY:Mid-semester grades due at 3:00 p.m.
DESCRIPTION:
URL:https://www.finlandia.edu/event/mid-semester-grades-due-at-300-p-m/
CATEGORIES:Academic Calendar
END:VEVENT
BEGIN:VEVENT
DTSTART;TZID=America/Detroit:20230620T160000
DTEND;TZID=America/Detroit:20230620T160000
DTSTAMP:20230523T114702
CREATED:20230511T164957Z
LAST-MODIFIED:20230511T164957Z
UID:77621-1687276800-1687276800@www.finlandia.edu
SUMMARY:End of “W” period at 4:00 p.m.
DESCRIPTION:
URL:https://www.finlandia.edu/event/end-of-w-period-at-400-p-m/
CATEGORIES:Academic Calendar
END:VEVENT
END:VCALENDAR