BEGIN:VCALENDAR
VERSION:2.0
PRODID:-//Finlandia University - ECPv6.0.10//NONSGML v1.0//EN
CALSCALE:GREGORIAN
METHOD:PUBLISH
X-WR-CALNAME:Finlandia University
X-ORIGINAL-URL:https://www.finlandia.edu
X-WR-CALDESC:Events for Finlandia University
REFRESH-INTERVAL;VALUE=DURATION:PT1H
X-Robots-Tag:noindex
X-PUBLISHED-TTL:PT1H
BEGIN:VTIMEZONE
TZID:America/Detroit
BEGIN:DAYLIGHT
TZOFFSETFROM:-0500
TZOFFSETTO:-0400
TZNAME:EDT
DTSTART:20230312T070000
END:DAYLIGHT
BEGIN:STANDARD
TZOFFSETFROM:-0400
TZOFFSETTO:-0500
TZNAME:EST
DTSTART:20231105T060000
END:STANDARD
BEGIN:DAYLIGHT
TZOFFSETFROM:-0500
TZOFFSETTO:-0400
TZNAME:EDT
DTSTART:20240310T070000
END:DAYLIGHT
BEGIN:STANDARD
TZOFFSETFROM:-0400
TZOFFSETTO:-0500
TZNAME:EST
DTSTART:20241103T060000
END:STANDARD
BEGIN:DAYLIGHT
TZOFFSETFROM:-0500
TZOFFSETTO:-0400
TZNAME:EDT
DTSTART:20250309T070000
END:DAYLIGHT
BEGIN:STANDARD
TZOFFSETFROM:-0400
TZOFFSETTO:-0500
TZNAME:EST
DTSTART:20251102T060000
END:STANDARD
END:VTIMEZONE
BEGIN:VEVENT
DTSTART;VALUE=DATE:20230501
DTEND;VALUE=DATE:20230506
DTSTAMP:20230523T184544
CREATED:20220805T144058Z
LAST-MODIFIED:20220805T144058Z
UID:72197-1682899200-1683331199@www.finlandia.edu
SUMMARY:Final Exam Week
DESCRIPTION:
URL:https://www.finlandia.edu/event/final-exam-week-2/
END:VEVENT
BEGIN:VEVENT
DTSTART;TZID=America/Detroit:20230501T180000
DTEND;TZID=America/Detroit:20230501T200000
DTSTAMP:20230523T184544
CREATED:20230424T160211Z
LAST-MODIFIED:20230424T160351Z
UID:77472-1682964000-1682971200@www.finlandia.edu
SUMMARY:Campus Community Blessing & Meal
DESCRIPTION:
URL:https://www.finlandia.edu/event/campus-community-blessing-meal-2/
LOCATION:Chapel of St. Matthew\, 601 Quincy Street\, Hancock\, 49930\, United States
CATEGORIES:Campus Events,Campus Ministry,Employee Events,Residence Life,Student Affairs
ORGANIZER;CN="Pastor%20Sarah%20Semmler%20Smith":MAILTO:sarah.semmlersmith@finlandia.edu
GEO:47.1265524;-88.5890979
X-APPLE-STRUCTURED-LOCATION;VALUE=URI;X-ADDRESS=Chapel of St. Matthew 601 Quincy Street Hancock 49930 United States;X-APPLE-RADIUS=500;X-TITLE=601 Quincy Street:geo:-88.5890979,47.1265524
END:VEVENT
BEGIN:VEVENT
DTSTART;TZID=America/Detroit:20230504T110000
DTEND;TZID=America/Detroit:20230504T150000
DTSTAMP:20230523T184544
CREATED:20230331T133047Z
LAST-MODIFIED:20230403T201249Z
UID:77191-1683198000-1683212400@www.finlandia.edu
SUMMARY:Employee Event: Upper Peninsula Michigan Works! Workshop
DESCRIPTION:
URL:https://www.finlandia.edu/event/employee-event-upper-peninsula-michigan-works-workshop/2023-05-04/
LOCATION:Finlandia Hall\, 625 Summit St\, Hancock\, 49930
ORGANIZER;CN="Finlandia%20University%20Human%20Resources%20Department":MAILTO:humanresources@finlandia.edu
END:VEVENT
BEGIN:VEVENT
DTSTART;VALUE=DATE:20230505
DTEND;VALUE=DATE:20230506
DTSTAMP:20230523T184544
CREATED:20220805T144126Z
LAST-MODIFIED:20220805T144126Z
UID:72199-1683244800-1683331199@www.finlandia.edu
SUMMARY:End of semester\, Friday\, May 5
DESCRIPTION:
URL:https://www.finlandia.edu/event/end-of-semester-friday-may-5/
END:VEVENT
BEGIN:VEVENT
DTSTART;TZID=America/Detroit:20230505T113000
DTEND;TZID=America/Detroit:20230505T123000
DTSTAMP:20230523T184544
CREATED:20230414T184944Z
LAST-MODIFIED:20230420T203628Z
UID:77333-1683286200-1683289800@www.finlandia.edu
SUMMARY:Rehearsal for Commencement
DESCRIPTION:
URL:https://www.finlandia.edu/event/rehearsal-for-commencement/
LOCATION:Hirvonen Building Gymnasium\, 417 Quincy St\, Hancock\, 49930\, United States
CATEGORIES:Academic Calendar,Campus Events
END:VEVENT
BEGIN:VEVENT
DTSTART;TZID=America/Detroit:20230507T103000
DTEND;TZID=America/Detroit:20230507T113000
DTSTAMP:20230523T184544
CREATED:20230414T185607Z
LAST-MODIFIED:20230420T203614Z
UID:77337-1683455400-1683459000@www.finlandia.edu
SUMMARY:Baccalaureate
DESCRIPTION:
URL:https://www.finlandia.edu/event/baccalaureate/
LOCATION:Gloria Dei Lutheran Church\, 1000 W Quincy St\, Hancock\, MI\, 49930\, United States
CATEGORIES:Academic Calendar,Campus Events,Residence Life,Student Affairs
GEO:47.1267197;-88.5975252
X-APPLE-STRUCTURED-LOCATION;VALUE=URI;X-ADDRESS=Gloria Dei Lutheran Church 1000 W Quincy St Hancock MI 49930 United States;X-APPLE-RADIUS=500;X-TITLE=1000 W Quincy St:geo:-88.5975252,47.1267197
END:VEVENT
BEGIN:VEVENT
DTSTART;TZID=America/Detroit:20230507T133000
DTEND;TZID=America/Detroit:20230507T153000
DTSTAMP:20230523T184544
CREATED:20230125T160155Z
LAST-MODIFIED:20230426T211556Z
UID:75723-1683466200-1683473400@www.finlandia.edu
SUMMARY:Spring 2023 Commencement Ceremony
DESCRIPTION:
URL:https://www.finlandia.edu/event/2023commencement/
LOCATION:Hirvonen Hall Auditorium\, 417 Quincy Street\, Hancock\, MI\, 49930\, United States
CATEGORIES:Academic Calendar,Campus Events,Residence Life,Student Affairs
END:VEVENT
BEGIN:VEVENT
DTSTART;TZID=America/Detroit:20230507T153000
DTEND;TZID=America/Detroit:20230507T163000
DTSTAMP:20230523T184544
CREATED:20230414T193149Z
LAST-MODIFIED:20230420T203558Z
UID:77352-1683473400-1683477000@www.finlandia.edu
SUMMARY:Reception for Commencement
DESCRIPTION:
URL:https://www.finlandia.edu/event/reception-for-commencement/
LOCATION:Quincy Green\, 417 Quincy St\, Hancock\, MI\, 49930\, United States
CATEGORIES:Academic Calendar,Campus Events,Residence Life,Student Affairs
GEO:47.1266474;-88.5849155
X-APPLE-STRUCTURED-LOCATION;VALUE=URI;X-ADDRESS=Quincy Green 417 Quincy St Hancock MI 49930 United States;X-APPLE-RADIUS=500;X-TITLE=417 Quincy St:geo:-88.5849155,47.1266474
END:VEVENT
BEGIN:VEVENT
DTSTART;TZID=America/Detroit:20230507T180000
DTEND;TZID=America/Detroit:20230507T180000
DTSTAMP:20230523T184544
CREATED:20220805T145216Z
LAST-MODIFIED:20220805T145240Z
UID:72201-1683482400-1683482400@www.finlandia.edu
SUMMARY:Residence hall closes at 6:00 pm
DESCRIPTION:
URL:https://www.finlandia.edu/event/baccalaureate-commencement/
END:VEVENT
BEGIN:VEVENT
DTSTART;TZID=America/Detroit:20230507T180000
DTEND;TZID=America/Detroit:20230507T193000
DTSTAMP:20230523T184544
CREATED:20230420T203247Z
LAST-MODIFIED:20230426T204812Z
UID:77441-1683482400-1683487800@www.finlandia.edu
SUMMARY:Service of Commendation for Finlandia University
DESCRIPTION:
URL:https://www.finlandia.edu/event/service-of-commendation-for-finlandia-university/
LOCATION:Hirvonen Hall Auditorium\, 417 Quincy Street\, Hancock\, MI\, 49930\, United States
CATEGORIES:Campus Ministry,Residence Life,Student Affairs
END:VEVENT
BEGIN:VEVENT
DTSTART;VALUE=DATE:20230508
DTEND;VALUE=DATE:20230509
DTSTAMP:20230523T184544
CREATED:20230511T164629Z
LAST-MODIFIED:20230511T164756Z
UID:77610-1683504000-1683590399@www.finlandia.edu
SUMMARY:First day of classes – NUR 400 official start date
DESCRIPTION:
URL:https://www.finlandia.edu/event/first-day-of-classes-nur-400-official-start-date/
CATEGORIES:Academic Calendar
END:VEVENT
BEGIN:VEVENT
DTSTART;TZID=America/Detroit:20230509T150000
DTEND;TZID=America/Detroit:20230509T150000
DTSTAMP:20230523T184544
CREATED:20220805T145317Z
LAST-MODIFIED:20220805T145316Z
UID:72204-1683644400-1683644400@www.finlandia.edu
SUMMARY:Final Semester Grades due online 3:00 pm
DESCRIPTION:
URL:https://www.finlandia.edu/event/final-semester-grades-due-online-300-pm/
END:VEVENT
BEGIN:VEVENT
DTSTART;TZID=America/Detroit:20230511T110000
DTEND;TZID=America/Detroit:20230511T150000
DTSTAMP:20230523T184544
CREATED:20230331T133047Z
LAST-MODIFIED:20230403T201249Z
UID:77192-1683802800-1683817200@www.finlandia.edu
SUMMARY:Employee Event: Upper Peninsula Michigan Works! Workshop
DESCRIPTION:
URL:https://www.finlandia.edu/event/employee-event-upper-peninsula-michigan-works-workshop/2023-05-11/
LOCATION:Finlandia Hall\, 625 Summit St\, Hancock\, 49930
ORGANIZER;CN="Finlandia%20University%20Human%20Resources%20Department":MAILTO:humanresources@finlandia.edu
END:VEVENT
BEGIN:VEVENT
DTSTART;VALUE=DATE:20230522
DTEND;VALUE=DATE:20230523
DTSTAMP:20230523T184544
CREATED:20230511T164720Z
LAST-MODIFIED:20230511T164720Z
UID:77612-1684713600-1684799999@www.finlandia.edu
SUMMARY:First day of classes – All other courses
DESCRIPTION:
URL:https://www.finlandia.edu/event/first-day-of-classes-all-other-courses/
CATEGORIES:Academic Calendar
END:VEVENT
BEGIN:VEVENT
DTSTART;TZID=America/Detroit:20230525T160000
DTEND;TZID=America/Detroit:20230525T160000
DTSTAMP:20230523T184544
CREATED:20230511T164839Z
LAST-MODIFIED:20230511T164839Z
UID:77615-1685030400-1685030400@www.finlandia.edu
SUMMARY:Drop/add period ends at 4:00 p.m
DESCRIPTION:
URL:https://www.finlandia.edu/event/drop-add-period-ends-at-400-p-m/
CATEGORIES:Academic Calendar
END:VEVENT
BEGIN:VEVENT
DTSTART;VALUE=DATE:20230529
DTEND;VALUE=DATE:20230530
DTSTAMP:20230523T184544
CREATED:20230511T164858Z
LAST-MODIFIED:20230511T164858Z
UID:77617-1685318400-1685404799@www.finlandia.edu
SUMMARY:No classes; campus closed (Memorial Day)
DESCRIPTION:
URL:https://www.finlandia.edu/event/no-classes-campus-closed-memorial-day/
CATEGORIES:Academic Calendar
END:VEVENT
BEGIN:VEVENT
DTSTART;TZID=America/Detroit:20230613T150000
DTEND;TZID=America/Detroit:20230613T150000
DTSTAMP:20230523T184544
CREATED:20230511T164935Z
LAST-MODIFIED:20230511T164935Z
UID:77619-1686668400-1686668400@www.finlandia.edu
SUMMARY:Mid-semester grades due at 3:00 p.m.
DESCRIPTION:
URL:https://www.finlandia.edu/event/mid-semester-grades-due-at-300-p-m/
CATEGORIES:Academic Calendar
END:VEVENT
BEGIN:VEVENT
DTSTART;TZID=America/Detroit:20230620T160000
DTEND;TZID=America/Detroit:20230620T160000
DTSTAMP:20230523T184544
CREATED:20230511T164957Z
LAST-MODIFIED:20230511T164957Z
UID:77621-1687276800-1687276800@www.finlandia.edu
SUMMARY:End of “W” period at 4:00 p.m.
DESCRIPTION:
URL:https://www.finlandia.edu/event/end-of-w-period-at-400-p-m/
CATEGORIES:Academic Calendar
END:VEVENT
BEGIN:VEVENT
DTSTART;VALUE=DATE:20230703
DTEND;VALUE=DATE:20230704
DTSTAMP:20230523T184544
CREATED:20230511T165036Z
LAST-MODIFIED:20230511T165036Z
UID:77623-1688342400-1688428799@www.finlandia.edu
SUMMARY:No classes; campus closed (Independence Day)
DESCRIPTION:
URL:https://www.finlandia.edu/event/no-classes-campus-closed-independence-day/2023-07-03/
CATEGORIES:Academic Calendar
END:VEVENT
BEGIN:VEVENT
DTSTART;VALUE=DATE:20230704
DTEND;VALUE=DATE:20230705
DTSTAMP:20230523T184544
CREATED:20230511T165037Z
LAST-MODIFIED:20230511T165036Z
UID:77625-1688428800-1688515199@www.finlandia.edu
SUMMARY:No classes; campus closed (Independence Day)
DESCRIPTION:
URL:https://www.finlandia.edu/event/no-classes-campus-closed-independence-day/2023-07-04/
CATEGORIES:Academic Calendar
END:VEVENT
BEGIN:VEVENT
DTSTART;VALUE=DATE:20230714
DTEND;VALUE=DATE:20230715
DTSTAMP:20230523T184544
CREATED:20230511T165120Z
LAST-MODIFIED:20230511T165120Z
UID:77626-1689292800-1689379199@www.finlandia.edu
SUMMARY:Last Day of Classes
DESCRIPTION:
URL:https://www.finlandia.edu/event/last-day-of-classes/
CATEGORIES:Academic Calendar
END:VEVENT
BEGIN:VEVENT
DTSTART;TZID=America/Detroit:20230718T150000
DTEND;TZID=America/Detroit:20230718T150000
DTSTAMP:20230523T184544
CREATED:20230511T165223Z
LAST-MODIFIED:20230511T165301Z
UID:77628-1689692400-1689692400@www.finlandia.edu
SUMMARY:Final Grades are due at 3:00 p.m.
DESCRIPTION:
URL:https://www.finlandia.edu/event/final-grades-are-due-at-300-p-m/
CATEGORIES:Academic Calendar
END:VEVENT
BEGIN:VEVENT
DTSTART;VALUE=DATE:20240324
DTEND;VALUE=DATE:20240326
DTSTAMP:20230523T184544
CREATED:20220422T182813Z
LAST-MODIFIED:20220422T182924Z
UID:70239-1711238400-1711411199@www.finlandia.edu
SUMMARY:Holi
DESCRIPTION:
URL:https://www.finlandia.edu/event/holi-copy/
END:VEVENT
BEGIN:VEVENT
DTSTART;VALUE=DATE:20240324
DTEND;VALUE=DATE:20240331
DTSTAMP:20230523T184544
CREATED:20220422T183208Z
LAST-MODIFIED:20220422T183208Z
UID:70252-1711238400-1711843199@www.finlandia.edu
SUMMARY:Holy Week for Christians
DESCRIPTION:
URL:https://www.finlandia.edu/event/holy-week-for-christians-3/
END:VEVENT
BEGIN:VEVENT
DTSTART;VALUE=DATE:20240408
DTEND;VALUE=DATE:20240409
DTSTAMP:20230523T184544
CREATED:20220422T183732Z
LAST-MODIFIED:20220422T183732Z
UID:70263-1712534400-1712620799@www.finlandia.edu
SUMMARY:Eid al-Fitr / End of Ramadan
DESCRIPTION:
URL:https://www.finlandia.edu/event/eid-al-fitr-end-of-ramadan-3/
END:VEVENT
BEGIN:VEVENT
DTSTART;VALUE=DATE:20240422
DTEND;VALUE=DATE:20240430
DTSTAMP:20230523T184544
CREATED:20220422T180441Z
LAST-MODIFIED:20220422T184203Z
UID:70225-1713744000-1714435199@www.finlandia.edu
SUMMARY:Passover
DESCRIPTION:
URL:https://www.finlandia.edu/event/passover-3/
END:VEVENT
BEGIN:VEVENT
DTSTART;VALUE=DATE:20250313
DTEND;VALUE=DATE:20250315
DTSTAMP:20230523T184544
CREATED:20220422T182846Z
LAST-MODIFIED:20220422T182846Z
UID:70242-1741824000-1741996799@www.finlandia.edu
SUMMARY:Holi
DESCRIPTION:
URL:https://www.finlandia.edu/event/holi-3/
END:VEVENT
BEGIN:VEVENT
DTSTART;VALUE=DATE:20250329
DTEND;VALUE=DATE:20250330
DTSTAMP:20230523T184544
CREATED:20220422T183755Z
LAST-MODIFIED:20220422T183755Z
UID:70266-1743206400-1743292799@www.finlandia.edu
SUMMARY:Eid al-Fitr / End of Ramadan
DESCRIPTION:
URL:https://www.finlandia.edu/event/eid-al-fitr-end-of-ramadan-4/
END:VEVENT
BEGIN:VEVENT
DTSTART;VALUE=DATE:20250412
DTEND;VALUE=DATE:20250420
DTSTAMP:20230523T184544
CREATED:20220422T181737Z
LAST-MODIFIED:20220422T184145Z
UID:70228-1744416000-1745107199@www.finlandia.edu
SUMMARY:Passover
DESCRIPTION:
URL:https://www.finlandia.edu/event/passover-4/
END:VEVENT
BEGIN:VEVENT
DTSTART;VALUE=DATE:20250413
DTEND;VALUE=DATE:20250420
DTSTAMP:20230523T184544
CREATED:20220422T183303Z
LAST-MODIFIED:20220422T183303Z
UID:70254-1744502400-1745107199@www.finlandia.edu
SUMMARY:Holy Week for Christians
DESCRIPTION:
URL:https://www.finlandia.edu/event/holy-week-for-christians-4/
END:VEVENT
END:VCALENDAR