BEGIN:VCALENDAR
VERSION:2.0
PRODID:-//Finlandia University - ECPv6.0.10//NONSGML v1.0//EN
CALSCALE:GREGORIAN
METHOD:PUBLISH
X-WR-CALNAME:Finlandia University
X-ORIGINAL-URL:https://www.finlandia.edu
X-WR-CALDESC:Events for Finlandia University
REFRESH-INTERVAL;VALUE=DURATION:PT1H
X-Robots-Tag:noindex
X-PUBLISHED-TTL:PT1H
BEGIN:VTIMEZONE
TZID:America/Detroit
BEGIN:DAYLIGHT
TZOFFSETFROM:-0500
TZOFFSETTO:-0400
TZNAME:EDT
DTSTART:20230312T070000
END:DAYLIGHT
BEGIN:STANDARD
TZOFFSETFROM:-0400
TZOFFSETTO:-0500
TZNAME:EST
DTSTART:20231105T060000
END:STANDARD
END:VTIMEZONE
BEGIN:VEVENT
DTSTART;TZID=America/Detroit:20230430T190000
DTEND;TZID=America/Detroit:20230430T220000
DTSTAMP:20230523T114820
CREATED:20230424T203625Z
LAST-MODIFIED:20230424T203625Z
UID:77479-1682881200-1682892000@www.finlandia.edu
SUMMARY:Late Night Breakfast & Tutoring
DESCRIPTION:
URL:https://www.finlandia.edu/event/late-night-breakfast-tutoring/
LOCATION:Finlandia Café
CATEGORIES:Residence Life,Student Affairs
END:VEVENT
END:VCALENDAR